BEGIN:VCALENDAR
VERSION:2.0
PRODID:-//DANCEaustria - ECPv5.2.0//NONSGML v1.0//EN
CALSCALE:GREGORIAN
METHOD:PUBLISH
X-WR-CALNAME:DANCEaustria
X-ORIGINAL-URL:https://www.danceaustria.at
X-WR-CALDESC:Veranstaltungen für DANCEaustria
BEGIN:VTIMEZONE
TZID:Europe/Vienna
BEGIN:DAYLIGHT
TZOFFSETFROM:+0100
TZOFFSETTO:+0200
TZNAME:CEST
DTSTART:20200329T010000
END:DAYLIGHT
BEGIN:STANDARD
TZOFFSETFROM:+0200
TZOFFSETTO:+0100
TZNAME:CET
DTSTART:20201025T010000
END:STANDARD
END:VTIMEZONE
BEGIN:VEVENT
DTSTART;TZID=Europe/Vienna:20200626T170000
DTEND;TZID=Europe/Vienna:20200626T183000
DTSTAMP:20260420T184053
CREATED:20200624T091317Z
LAST-MODIFIED:20200624T091317Z
UID:43708-1593190800-1593196200@www.danceaustria.at
SUMMARY:Breaking am Freitag
DESCRIPTION:Breaking für Einsteiger \nJeden Freitag von 17:00-18:30 Uhr im Streetdance Center in Gnigl. Kommt gerne auf eine Schnupperstunde vorbei und probiert es aus. \nTrainer: Günther Eder und FraGue Moser-Kindler \nInfos über FB oder gue@streetdancecenter.com \nNächsten Termine: \nFr.\, 26. Juni 2020 17:00 – 18:30 \nFr.\, 03. Juli 2020 17:00 – 18:30
URL:https://www.danceaustria.at/event/breaking-am-freitag/
LOCATION:Streetdance Center Salzburg\, Parscher Strasse 4\, Salzburg\, Salz\, 5020\, Österreich
CATEGORIES:Breaking,Urban Dance
ATTACH;FMTTYPE=image/jpeg:https://www.danceaustria.at/wp-content/uploads/2020/06/86171346_3607973482576225_2911546634762452992_o.jpg
ORGANIZER;CN="Streetdance%20Center%20Salzburg":MAILTO:office@streetdancecenter.com
END:VEVENT
END:VCALENDAR