BEGIN:VCALENDAR
VERSION:2.0
PRODID:-//DANCEaustria - ECPv5.2.0//NONSGML v1.0//EN
CALSCALE:GREGORIAN
METHOD:PUBLISH
X-WR-CALNAME:DANCEaustria
X-ORIGINAL-URL:https://www.danceaustria.at
X-WR-CALDESC:Veranstaltungen für DANCEaustria
BEGIN:VTIMEZONE
TZID:Europe/Vienna
BEGIN:DAYLIGHT
TZOFFSETFROM:+0100
TZOFFSETTO:+0200
TZNAME:CEST
DTSTART:20230326T010000
END:DAYLIGHT
BEGIN:STANDARD
TZOFFSETFROM:+0200
TZOFFSETTO:+0100
TZNAME:CET
DTSTART:20231029T010000
END:STANDARD
END:VTIMEZONE
BEGIN:VEVENT
DTSTART;VALUE=DATE:20230916
DTEND;VALUE=DATE:20230917
DTSTAMP:20260425T160336
CREATED:20230901T081711Z
LAST-MODIFIED:20230901T082254Z
UID:233428-1694822400-1694908799@www.danceaustria.at
SUMMARY:I.M.B.A. – International Mela for Breaking Academics
DESCRIPTION:Mit ´I.M.B.A. – International Mela for Breaking Academics’` entsteht ein einzigartiges Festivalformat für die neue Olympische Disziplin Breaking in einem universitären Kontext. Der Österreichische und Oberösterreichische Urban Dance Verband in Kooperation mit dem Universitätssportinstitut der Johannes-Kepler-Universität Linz\, Urban Artists und dem DANCEproject Linz laden dazu alle B-Girls und B-Boys herzlich ein. \nDer Hauptbewerb ist eine offene internationale Breaking Battle 1vs1 für Erwachsene. Im Zuge dieser Veranstaltung werdendie 1. Oberösterreichischen offenen akademischen Meisterschaften\,die 3. Österreichischen Meisterschaften der Junioren und Jugend\, unddie 3. Österreichischen Staatsmeisterschaften in Breaking ausgetragen. \nEVENT| I.M.B.A. International Mela for Breaking AcademicsDATE | 16. September 2023LOCATION | Kepler Hall JKU – Linz AustriaMAIL | info@urbanartists.atWEB | imba2023.urbanartists.at \nVERANSTALTUNGSORT:Kepler Hall – Johannes Kepler Universität LinzAltenberger Str. 69\, 4040 Linz – Austria \nKATEGORIEN:• 1vs1 B-Girl Junior Jahrgang 2010 und jünger (Österreichische Meisterschaften)• 1vs1 B-Boy Junior Jahrgang 2010 und jünger (Österreichische Meisterschaften)• 1vs1 B-Girl Youth Jahrgang 2006 und jünger (Österreichische Meisterschaften)• 1vs1 B-Boy Youth Jahrgang 2006 und jünger (Österreichische Meisterschaften)• 1vs1 B-Girl Adult national\, international & academics• 1vs1 B-Boy Adult national\, international & academics \nANMELDUNG:Bitte beachten! Der Anmeldeschluss ist Mittwoch\, 13. September 2023 um 23.59 Uhr!Die Anmeldung erfolgt ausschließlich über and8.dance. \nVORLÄUFIGER ZEITPLAN: \nSamstag 16. September \n09:00 | Check-In\, Warm-Up & Cyphers10:00 | Qualifikationsrunden (Preselection) B-Girls Juniors & Youth – B-Boys Juniors & Youth14:30 | Qualifikationsrunden (Preselection) B-Girls Adults – B-Boys Adults \nKnock-Out Battles | Top 8 | Best of 3Finalrunden (Kleines Finale\, Finale) | 3 Rounds \nSiegerehrung \nÄnderungen vorbehalten \nVERANSTALTER:UDVÖ | UDVOÖ | Urban Artists | DANCEproject LinzE-Mail: info@urbanartists.at \nSPONSOREN & PARTNER:• Universitätssportinstitut Johannes Kepler Universität• Anton Bruckner Privatuniversität• and8.dance• Die Medienwerkstatt• urbanartproduction gmbh• FH Oberösterreich• Grawe – Grazer Wechselseitige Versicherung• Liwest• Ole Store• PR-Optics• Steppix• Vivo Barefoot• SNP \nÄnderungen vorbehalten. \nWeitere Information und Details folgen in Kürze. \n			\n			\n				\n				\n				\n				\n			\n				\n				\n			\n				\n				\n				\n				\n				\n				\n				\n				\n				\n				\n				\n				\n				\n				Tickets & Registration
URL:https://www.danceaustria.at/event/i-m-b-a-international-mela-for-breaking-academics/
LOCATION:Kepler Hall – Johannes Kepler Universität Linz\, Altenberger Straße 69\, Linz\, Oberösterreich\, 4040\, Österreich
CATEGORIES:Battle,Breaking,Event,Urban Dance,Veranstaltung
ATTACH;FMTTYPE=image/jpeg:https://www.danceaustria.at/wp-content/uploads/2023/09/I.M.B.A.jpg
ORGANIZER;CN="UDV%C3%96%20%7C%20UDVO%C3%96%20%7C%20Urban%20Artists%20%7C%20DANCEproject%20Linz":MAILTO:info@urbanartists.at
END:VEVENT
END:VCALENDAR