BEGIN:VCALENDAR
VERSION:2.0
PRODID:-//DANCEaustria - ECPv5.2.0//NONSGML v1.0//EN
CALSCALE:GREGORIAN
METHOD:PUBLISH
X-WR-CALNAME:DANCEaustria
X-ORIGINAL-URL:https://www.danceaustria.at
X-WR-CALDESC:Veranstaltungen für DANCEaustria
BEGIN:VTIMEZONE
TZID:Europe/Vienna
BEGIN:DAYLIGHT
TZOFFSETFROM:+0100
TZOFFSETTO:+0200
TZNAME:CEST
DTSTART:20210328T010000
END:DAYLIGHT
BEGIN:STANDARD
TZOFFSETFROM:+0200
TZOFFSETTO:+0100
TZNAME:CET
DTSTART:20211031T010000
END:STANDARD
END:VTIMEZONE
BEGIN:VEVENT
DTSTART;TZID=Europe/Vienna:20210411T180000
DTEND;TZID=Europe/Vienna:20210411T200000
DTSTAMP:20260423T102232
CREATED:20210309T103611Z
LAST-MODIFIED:20210309T103611Z
UID:44396-1618164000-1618171200@www.danceaustria.at
SUMMARY:Vorstandssitzung
DESCRIPTION:interne Veranstaltung | gesonderte Einladung erfolgt rechtzeitig
URL:https://www.danceaustria.at/event/vorstandssitzung/
LOCATION:Online
CATEGORIES:Urban Dance
ATTACH;FMTTYPE=image/png:https://www.danceaustria.at/wp-content/uploads/2021/03/and-8-Banner-Kopie-4.png
END:VEVENT
END:VCALENDAR